BEGIN:VCALENDAR
VERSION:2.0
PRODID:-//WSU Foundation and Alumni Engagement - ECPv6.15.10//NONSGML v1.0//EN
CALSCALE:GREGORIAN
METHOD:PUBLISH
X-ORIGINAL-URL:https://foundation.wichita.edu
X-WR-CALDESC:Events for WSU Foundation and Alumni Engagement
REFRESH-INTERVAL;VALUE=DURATION:PT1H
X-Robots-Tag:noindex
X-PUBLISHED-TTL:PT1H
BEGIN:VTIMEZONE
TZID:America/Chicago
BEGIN:DAYLIGHT
TZOFFSETFROM:-0600
TZOFFSETTO:-0500
TZNAME:CDT
DTSTART:20260308T080000
END:DAYLIGHT
BEGIN:STANDARD
TZOFFSETFROM:-0500
TZOFFSETTO:-0600
TZNAME:CST
DTSTART:20261101T070000
END:STANDARD
BEGIN:DAYLIGHT
TZOFFSETFROM:-0600
TZOFFSETTO:-0500
TZNAME:CDT
DTSTART:20270314T080000
END:DAYLIGHT
BEGIN:STANDARD
TZOFFSETFROM:-0500
TZOFFSETTO:-0600
TZNAME:CST
DTSTART:20271107T070000
END:STANDARD
BEGIN:DAYLIGHT
TZOFFSETFROM:-0600
TZOFFSETTO:-0500
TZNAME:CDT
DTSTART:20280312T080000
END:DAYLIGHT
BEGIN:STANDARD
TZOFFSETFROM:-0500
TZOFFSETTO:-0600
TZNAME:CST
DTSTART:20281105T070000
END:STANDARD
END:VTIMEZONE
BEGIN:VEVENT
DTSTART;VALUE=DATE:20270415
DTEND;VALUE=DATE:20270417
DTSTAMP:20260419T145758
CREATED:20251210T201308Z
LAST-MODIFIED:20260402T164924Z
UID:33563-1807750800-1807837199@foundation.wichita.edu
SUMMARY:Retired Faculty and Staff Luncheon - Invitation Only
DESCRIPTION:Save the date for our annual luncheon to honor and celebrate the incredible legacies our faculty and staff have left on Shocker Nation. \nDetails:\nThursday\,  April 15\, 2027\nTime & Location TDB \nRSVP Coming Soon
URL:https://foundation.wichita.edu/event/retired-luncheon/
ATTACH;FMTTYPE=image/jpeg:https://foundation.wichita.edu/wpcms/wp-content/uploads/2025/12/2025-12_Retired_FacultyStaff_Luncheon_850x450.jpg
END:VEVENT
END:VCALENDAR